BEGIN:VCALENDAR
VERSION:2.0
PRODID:-//Garden Club of Jacksonville - ECPv6.3.4//NONSGML v1.0//EN
CALSCALE:GREGORIAN
METHOD:PUBLISH
X-WR-CALNAME:Garden Club of Jacksonville
X-ORIGINAL-URL:https://www.gardenclubjax.org
X-WR-CALDESC:Events for Garden Club of Jacksonville
REFRESH-INTERVAL;VALUE=DURATION:PT1H
X-Robots-Tag:noindex
X-PUBLISHED-TTL:PT1H
BEGIN:VTIMEZONE
TZID:America/New_York
BEGIN:DAYLIGHT
TZOFFSETFROM:-0500
TZOFFSETTO:-0400
TZNAME:EDT
DTSTART:20220313T070000
END:DAYLIGHT
BEGIN:STANDARD
TZOFFSETFROM:-0400
TZOFFSETTO:-0500
TZNAME:EST
DTSTART:20221106T060000
END:STANDARD
BEGIN:DAYLIGHT
TZOFFSETFROM:-0500
TZOFFSETTO:-0400
TZNAME:EDT
DTSTART:20230312T070000
END:DAYLIGHT
BEGIN:STANDARD
TZOFFSETFROM:-0400
TZOFFSETTO:-0500
TZNAME:EST
DTSTART:20231105T060000
END:STANDARD
END:VTIMEZONE
BEGIN:VEVENT
DTSTART;TZID=America/New_York:20230116T093000
DTEND;TZID=America/New_York:20230116T150000
DTSTAMP:20260421T081148
CREATED:20191028T104053Z
LAST-MODIFIED:20221122T190736Z
UID:10000089-1673861400-1673881200@www.gardenclubjax.org
SUMMARY:2023 Floral Design Study
DESCRIPTION:REGISTER NOWBecome an Amazing Floral Designer!\nFloral Design Study is a six-unit series with the goal of developing an understanding of the art of flower arranging for the home\, community settings\, or flower shows. Six classes cover basic floral design. \nEach class begins with lecture and demonstration throughout the morning. The instructor will create floral designs as she explains the required materials and techniques. Students are then given time after lunch to create their own designs followed by a discussion of each. \nAll units are taught by National Federation of Garden Clubs Master Judges and Instructors. These instructors teach and compete throughout the country and have represented the United States in international competition. Their work has been showcased in Design Dimensions and Concepts Magazines as well as FFGC and NGC Calendars. The instructor will share her extensive knowledge of floral design with students in a way that is both entertaining and easy to understand. \nLine materials\, foliage\, and flowers are supplied for the first three classes. Advanced registration is required. Students may repeat the series as many times as they wish. Members completing the first six units will receive a Certificate of Completion\, which provides eligibility to continue to more advanced classes. Graduates will dazzle friends and family with beautiful floral arrangements. What a fabulous way to spend your Mondays learning\, enjoying friendships\, and stimulating your creativity! \nOpen to Everyone!\nFloral Design Study is open to everyone\, regardless of experience or Garden Club membership. The only requirement is the willingness to learn!\n\nRegister Today\n\nUnits 1-6: $110\nIndividual Units: $25 each\n\nUnit 1: January 9\, 2023\n\nOverview of floral design and Principles of Design\nBasic tools and mechanics\nTypes of containers\nForms of plant materials\nDemonstrations of vertical\, asymmetrical\, and crescent designs\n\nUnit 2: January 16\, 2023\n\nCare\, cutting\, and grooming of plant materials\nMechanics for different containers\nElements of Design\nDemonstrations of symmetrical\, asymmetrical\, and diagonal designs\n\nUnit 3: January 30\, 2023\n\nCompatibility of plant materials with containers\nSelecting materials for curved designs and geometric line designs\nUse of fruits and vegetables in designs\nDemonstrations of crescent and Hogarth designs\n\nUnit 4: February 6\, 2023\n\nTable settings and coordination of floral designs with table components\nDemonstration of functional and exhibition tables for home and flower shows\n\nUnit 5: March 6\, 2023\n\nHow to use bases\, features\, featured objects\, and accessories\nDemonstrations of bases\, features\, featured objects\, and accessories\n\nUnit 6: March 13\, 2023\n\nHow to condition and transport plant materials\nDiscussion of Awards in a Flower Show\nDemonstration of Expressive and Interpretive Designs\n\nCurriculum provided by Florida Federation of Garden Clubs\n \nThis program will be offered in-person at the Garden Club. Masks are optional for those who are fully vaccinated against COVID-19. Those who are unvaccinated should wear masks; the Garden Club appreciates your cooperation. \nSample Class Agenda\n\n9:30 a.m. Check-in\n10 a.m. Lecuture/demonstration begins\n11 a.m. Break\n11:15 a.m. Lecture demonstration resumes\n12:15 p.m. Lunch (attendees bring their own lunch)\n12:45 p.m. Workshop: Attendees create designs\n1:30 p.m. Instructor discussion/evaluation\n2:45 p.m. Clean-up\n3 p.m. End of class\n\nQuestions?\nContact Joan Burchell at burchelli@aol.com or 434-760-0280.\n \nFloral Design Study is organized by Floralia\, a Garden Club of Jacksonville study group that explores various floral designs and techniques through educational opportunities and demonstrations that foster discussion and critique among both accomplished and novice members.\nREGISTER NOW
URL:https://www.gardenclubjax.org/event/2023-floral-design-study/2023-01-16/
LOCATION:Garden Club of Jacksonville | Club Room\, 1005 Riverside Avenue\, Jacksonville\, FL\, 32204\, United States
CATEGORIES:Floralia
ATTACH;FMTTYPE=image/jpeg:https://www.gardenclubjax.org/wp-content/uploads/2019/10/2023-Floral-Design-Study.jpg
END:VEVENT
BEGIN:VEVENT
DTSTART;TZID=America/New_York:20230109T093000
DTEND;TZID=America/New_York:20230109T150000
DTSTAMP:20260421T081148
CREATED:20191028T104053Z
LAST-MODIFIED:20221122T190736Z
UID:10000088-1673256600-1673276400@www.gardenclubjax.org
SUMMARY:2023 Floral Design Study
DESCRIPTION:REGISTER NOWBecome an Amazing Floral Designer!\nFloral Design Study is a six-unit series with the goal of developing an understanding of the art of flower arranging for the home\, community settings\, or flower shows. Six classes cover basic floral design. \nEach class begins with lecture and demonstration throughout the morning. The instructor will create floral designs as she explains the required materials and techniques. Students are then given time after lunch to create their own designs followed by a discussion of each. \nAll units are taught by National Federation of Garden Clubs Master Judges and Instructors. These instructors teach and compete throughout the country and have represented the United States in international competition. Their work has been showcased in Design Dimensions and Concepts Magazines as well as FFGC and NGC Calendars. The instructor will share her extensive knowledge of floral design with students in a way that is both entertaining and easy to understand. \nLine materials\, foliage\, and flowers are supplied for the first three classes. Advanced registration is required. Students may repeat the series as many times as they wish. Members completing the first six units will receive a Certificate of Completion\, which provides eligibility to continue to more advanced classes. Graduates will dazzle friends and family with beautiful floral arrangements. What a fabulous way to spend your Mondays learning\, enjoying friendships\, and stimulating your creativity! \nOpen to Everyone!\nFloral Design Study is open to everyone\, regardless of experience or Garden Club membership. The only requirement is the willingness to learn!\n\nRegister Today\n\nUnits 1-6: $110\nIndividual Units: $25 each\n\nUnit 1: January 9\, 2023\n\nOverview of floral design and Principles of Design\nBasic tools and mechanics\nTypes of containers\nForms of plant materials\nDemonstrations of vertical\, asymmetrical\, and crescent designs\n\nUnit 2: January 16\, 2023\n\nCare\, cutting\, and grooming of plant materials\nMechanics for different containers\nElements of Design\nDemonstrations of symmetrical\, asymmetrical\, and diagonal designs\n\nUnit 3: January 30\, 2023\n\nCompatibility of plant materials with containers\nSelecting materials for curved designs and geometric line designs\nUse of fruits and vegetables in designs\nDemonstrations of crescent and Hogarth designs\n\nUnit 4: February 6\, 2023\n\nTable settings and coordination of floral designs with table components\nDemonstration of functional and exhibition tables for home and flower shows\n\nUnit 5: March 6\, 2023\n\nHow to use bases\, features\, featured objects\, and accessories\nDemonstrations of bases\, features\, featured objects\, and accessories\n\nUnit 6: March 13\, 2023\n\nHow to condition and transport plant materials\nDiscussion of Awards in a Flower Show\nDemonstration of Expressive and Interpretive Designs\n\nCurriculum provided by Florida Federation of Garden Clubs\n \nThis program will be offered in-person at the Garden Club. Masks are optional for those who are fully vaccinated against COVID-19. Those who are unvaccinated should wear masks; the Garden Club appreciates your cooperation. \nSample Class Agenda\n\n9:30 a.m. Check-in\n10 a.m. Lecuture/demonstration begins\n11 a.m. Break\n11:15 a.m. Lecture demonstration resumes\n12:15 p.m. Lunch (attendees bring their own lunch)\n12:45 p.m. Workshop: Attendees create designs\n1:30 p.m. Instructor discussion/evaluation\n2:45 p.m. Clean-up\n3 p.m. End of class\n\nQuestions?\nContact Joan Burchell at burchelli@aol.com or 434-760-0280.\n \nFloral Design Study is organized by Floralia\, a Garden Club of Jacksonville study group that explores various floral designs and techniques through educational opportunities and demonstrations that foster discussion and critique among both accomplished and novice members.\nREGISTER NOW
URL:https://www.gardenclubjax.org/event/2023-floral-design-study/2023-01-09/
LOCATION:Garden Club of Jacksonville | Club Room\, 1005 Riverside Avenue\, Jacksonville\, FL\, 32204\, United States
CATEGORIES:Floralia
ATTACH;FMTTYPE=image/jpeg:https://www.gardenclubjax.org/wp-content/uploads/2019/10/2023-Floral-Design-Study.jpg
END:VEVENT
BEGIN:VEVENT
DTSTART;TZID=America/New_York:20221117T100000
DTEND;TZID=America/New_York:20221117T120000
DTSTAMP:20260421T081149
CREATED:20191028T104053Z
LAST-MODIFIED:20221117T022100Z
UID:10000082-1668679200-1668686400@www.gardenclubjax.org
SUMMARY:Floralia: Designing Edibles
DESCRIPTION:REGISTER NOWUse fruit\, vegetables\, and/or any part of the related plant in an imaginative design. \nFloralia is a Garden Club of Jacksonville study group that explores various floral designs and techniques through educational opportunities and demonstrations that foster discussion and critique among both accomplished and novice members. \nThis program will be offered in-person at the Garden Club. Masks are optional for those who are fully vaccinated against COVID-19. Those who are unvaccinated should wear masks; the Garden Club appreciates your cooperation. \nThis program is for members of the Garden Club of Jacksonville and their guests. \nGuests are invited to attend one or two meetings to acquaint themselves with the group and its monthly meetings. Applications for membership may be obtained starting October 27\, 2022. \nREGISTER NOW
URL:https://www.gardenclubjax.org/event/floralia-designing-edibles/
LOCATION:Garden Club of Jacksonville | Club Room\, 1005 Riverside Avenue\, Jacksonville\, FL\, 32204\, United States
CATEGORIES:Floralia
ATTACH;FMTTYPE=image/jpeg:https://www.gardenclubjax.org/wp-content/uploads/2019/10/Floralia-Webisite-Image.jpg
END:VEVENT
BEGIN:VEVENT
DTSTART;TZID=America/New_York:20221027T100000
DTEND;TZID=America/New_York:20221027T120000
DTSTAMP:20260421T081149
CREATED:20191028T104053Z
LAST-MODIFIED:20220919T153622Z
UID:10000174-1666864800-1666872000@www.gardenclubjax.org
SUMMARY:Floralia: Underwater Arrangements
DESCRIPTION:REGISTER NOWExplore designs with some or all of the plant material as well as any optional components submerged in water. The underwater components are not just stems but contribute primarily to the design. Water visually magnifies all things. In a sense\, the water line contributes to the design. \nFloralia is a Garden Club of Jacksonville study group that explores various floral designs and techniques through educational opportunities and demonstrations that foster discussion and critique among both accomplished and novice members. \nThis program will be offered in-person at the Garden Club. Masks are optional for those who are fully vaccinated against COVID-19. Those who are unvaccinated should wear masks; the Garden Club appreciates your cooperation. \nThis program is for members of the Garden Club of Jacksonville and their guests. \nGuests are invited to attend one or two meetings to acquaint themselves with the group and its monthly meetings. Applications for membership may be obtained starting October 27\, 2022. \nREGISTER NOW
URL:https://www.gardenclubjax.org/event/floralia-underwater-arrangements/
LOCATION:Garden Club of Jacksonville | Club Room\, 1005 Riverside Avenue\, Jacksonville\, FL\, 32204\, United States
CATEGORIES:Floralia
ATTACH;FMTTYPE=image/jpeg:https://www.gardenclubjax.org/wp-content/uploads/2019/10/10.27.2022-Floria-Underwater-Arrangements-scaled.jpg
END:VEVENT
END:VCALENDAR