BEGIN:VCALENDAR
VERSION:2.0
PRODID:-//Garden Club of Jacksonville - ECPv6.3.4//NONSGML v1.0//EN
CALSCALE:GREGORIAN
METHOD:PUBLISH
X-WR-CALNAME:Garden Club of Jacksonville
X-ORIGINAL-URL:https://www.gardenclubjax.org
X-WR-CALDESC:Events for Garden Club of Jacksonville
REFRESH-INTERVAL;VALUE=DURATION:PT1H
X-Robots-Tag:noindex
X-PUBLISHED-TTL:PT1H
BEGIN:VTIMEZONE
TZID:America/New_York
BEGIN:DAYLIGHT
TZOFFSETFROM:-0500
TZOFFSETTO:-0400
TZNAME:EDT
DTSTART:20190310T070000
END:DAYLIGHT
BEGIN:STANDARD
TZOFFSETFROM:-0400
TZOFFSETTO:-0500
TZNAME:EST
DTSTART:20191103T060000
END:STANDARD
BEGIN:DAYLIGHT
TZOFFSETFROM:-0500
TZOFFSETTO:-0400
TZNAME:EDT
DTSTART:20200308T070000
END:DAYLIGHT
BEGIN:STANDARD
TZOFFSETFROM:-0400
TZOFFSETTO:-0500
TZNAME:EST
DTSTART:20201101T060000
END:STANDARD
END:VTIMEZONE
BEGIN:VEVENT
DTSTART;TZID=America/New_York:20200310T103000
DTEND;TZID=America/New_York:20200310T120000
DTSTAMP:20260421T124544
CREATED:20191028T104053Z
LAST-MODIFIED:20200130T005324Z
UID:10000080-1583836200-1583841600@www.gardenclubjax.org
SUMMARY:Members' Council: Native Plants Create Bird Habitat
DESCRIPTION:At the March Members’ Council meeting\, Jody Willis\, president of Duval Audubon Society\, discusses native plant gardening to create a bird habitat. Willis shows why it is important to use native plants\, while eliminating invasive plants and pesticides that can harm birds and pollinators. In addition\, she will explain how to introduce native plants into your landscape to shelter and feed our local and migrating birds. \nFree for Garden Club members \nRESERVATIONS
URL:https://www.gardenclubjax.org/event/members-council-native-plants-create-bird-habitat/
LOCATION:Garden Club of Jacksonville | Ballroom\, 1005 Riverside Avenue\, Jacksonville\, FL\, 32204\, United States
CATEGORIES:Members’ Council
ATTACH;FMTTYPE=image/jpeg:https://www.gardenclubjax.org/wp-content/uploads/2019/10/Native-Plants-Create-Bird-Habitat.jpg
END:VEVENT
BEGIN:VEVENT
DTSTART;TZID=America/New_York:20200211T103000
DTEND;TZID=America/New_York:20200211T120000
DTSTAMP:20260421T124544
CREATED:20191028T104053Z
LAST-MODIFIED:20200203T220154Z
UID:10000076-1581417000-1581422400@www.gardenclubjax.org
SUMMARY:Members' Council: Garden Club Landscape Brainstorm
DESCRIPTION:The Garden Club of Jacksonville is working on a request for proposals that will go out to landscape designers and architects in the next few months. We have some ideas\, but we need to hear from our members. Join us at the February Members’ Council for a brainstorming session about what the Garden Club’s master landscape plan should include on Riverside Avenue\, Post Street\, the Courtyard\, and our riverfront property. We can’t do this without you! \nFree for Garden Club members \nRESERVATIONS
URL:https://www.gardenclubjax.org/event/members-council-garden-club-landscape-brainstorm/
LOCATION:Garden Club of Jacksonville | Ballroom\, 1005 Riverside Avenue\, Jacksonville\, FL\, 32204\, United States
CATEGORIES:Members’ Council
ATTACH;FMTTYPE=image/jpeg:https://www.gardenclubjax.org/wp-content/uploads/2019/10/Members-Council-Landscape-Brainstorm-Facebook.jpg
END:VEVENT
BEGIN:VEVENT
DTSTART;TZID=America/New_York:20200114T103000
DTEND;TZID=America/New_York:20200114T120000
DTSTAMP:20260421T124544
CREATED:20191028T104053Z
LAST-MODIFIED:20191230T025722Z
UID:10000047-1578997800-1579003200@www.gardenclubjax.org
SUMMARY:Members' Council: Garden Club Bylaws Q&A
DESCRIPTION:At the January Members’ Council meeting\, Garden Club President Bobi McGinnis and Governance Chair Marty Jones lead a Q&A about the proposed bylaws. \nRESERVATIONS
URL:https://www.gardenclubjax.org/event/members-council-garden-club-bylaws-qa/
LOCATION:Garden Club of Jacksonville | Ballroom\, 1005 Riverside Avenue\, Jacksonville\, FL\, 32204\, United States
CATEGORIES:Members’ Council
ATTACH;FMTTYPE=image/jpeg:https://www.gardenclubjax.org/wp-content/uploads/2019/10/Event-Members-Council-Bylaws-QA.jpg
END:VEVENT
BEGIN:VEVENT
DTSTART;TZID=America/New_York:20191210T103000
DTEND;TZID=America/New_York:20191210T120000
DTSTAMP:20260421T124544
CREATED:20191028T104053Z
LAST-MODIFIED:20191127T210133Z
UID:10000052-1575973800-1575979200@www.gardenclubjax.org
SUMMARY:Members’ Council: Social & Service
DESCRIPTION:At the December Members’ Council\, let’s celebrate the holiday by gathering together to give those who need it most. \nAndy Barber\, senior director of program funding for Sulzbacher\, discusses the nonprofit’s award-winning\, national model for ending homelessness for women and families\, including approximately 90 children living there on any given day. Sulzbacher Village provides dignified\, holistic services that include emergency housing\, affordable housing\, pediatric healthcare\, and job readiness and job placement services. Barber is a member of the Development Department and has worked at Sulzbacher for more than 18 years\, securing grant funding and helping develop programming for addressing the housing\, income\, and healthcare needs of homeless men\, women\, and children in Jacksonville. \nDonation drive: Please bring an unwrapped gift for Sulzbacher Village residents\, such as pajamas (sizes 2T to 5T)\, hypoallergenic baby wipes\, diapers (sizes 4\, 5\, and 6)\, pull-ups (size 4T)\, games\, coloring books\, crayons\, and backpacks. \nAfter the talk\, we invite members to sing songs along with the piano and enjoy refreshments at this holiday gathering. \nFree for Garden Club members \nRESERVATIONS
URL:https://www.gardenclubjax.org/event/members-council-social-service/
LOCATION:Garden Club of Jacksonville | Ballroom\, 1005 Riverside Avenue\, Jacksonville\, FL\, 32204\, United States
CATEGORIES:Members’ Council
ATTACH;FMTTYPE=image/jpeg:https://www.gardenclubjax.org/wp-content/uploads/2019/10/Sulzbacher-Village-Exterior-scaled.jpg
END:VEVENT
BEGIN:VEVENT
DTSTART;TZID=America/New_York:20191112T103000
DTEND;TZID=America/New_York:20191112T120000
DTSTAMP:20260421T124544
CREATED:20191028T104053Z
LAST-MODIFIED:20191106T195320Z
UID:10000041-1573554600-1573560000@www.gardenclubjax.org
SUMMARY:Members’ Council: Building the Emerald Trail
DESCRIPTION:Attend this monthly members’ meeting of the Garden Club of Jacksonville. Kay Ehas\, CEO of Groundwork Jacksonville\, discusses the nonprofit’s design and implementation of the Emerald Trail. \nFree for Garden Club members \nRESERVATIONS
URL:https://www.gardenclubjax.org/event/members-council-building-the-emerald-trail-2/
LOCATION:Garden Club of Jacksonville | Ballroom\, 1005 Riverside Avenue\, Jacksonville\, FL\, 32204\, United States
CATEGORIES:Members’ Council
ATTACH;FMTTYPE=image/jpeg:https://www.gardenclubjax.org/wp-content/uploads/2019/10/Event-Members-Council-Emerald-Trail.jpg
END:VEVENT
END:VCALENDAR