BEGIN:VCALENDAR
VERSION:2.0
PRODID:-//Garden Club of Jacksonville - ECPv6.3.4//NONSGML v1.0//EN
CALSCALE:GREGORIAN
METHOD:PUBLISH
X-WR-CALNAME:Garden Club of Jacksonville
X-ORIGINAL-URL:https://www.gardenclubjax.org
X-WR-CALDESC:Events for Garden Club of Jacksonville
REFRESH-INTERVAL;VALUE=DURATION:PT1H
X-Robots-Tag:noindex
X-PUBLISHED-TTL:PT1H
BEGIN:VTIMEZONE
TZID:America/New_York
BEGIN:DAYLIGHT
TZOFFSETFROM:-0500
TZOFFSETTO:-0400
TZNAME:EDT
DTSTART:20210314T070000
END:DAYLIGHT
BEGIN:STANDARD
TZOFFSETFROM:-0400
TZOFFSETTO:-0500
TZNAME:EST
DTSTART:20211107T060000
END:STANDARD
BEGIN:DAYLIGHT
TZOFFSETFROM:-0500
TZOFFSETTO:-0400
TZNAME:EDT
DTSTART:20220313T070000
END:DAYLIGHT
BEGIN:STANDARD
TZOFFSETFROM:-0400
TZOFFSETTO:-0500
TZNAME:EST
DTSTART:20221106T060000
END:STANDARD
BEGIN:DAYLIGHT
TZOFFSETFROM:-0500
TZOFFSETTO:-0400
TZNAME:EDT
DTSTART:20230312T070000
END:DAYLIGHT
BEGIN:STANDARD
TZOFFSETFROM:-0400
TZOFFSETTO:-0500
TZNAME:EST
DTSTART:20231105T060000
END:STANDARD
BEGIN:DAYLIGHT
TZOFFSETFROM:-0500
TZOFFSETTO:-0400
TZNAME:EDT
DTSTART:20240310T070000
END:DAYLIGHT
BEGIN:STANDARD
TZOFFSETFROM:-0400
TZOFFSETTO:-0500
TZNAME:EST
DTSTART:20241103T060000
END:STANDARD
BEGIN:DAYLIGHT
TZOFFSETFROM:-0500
TZOFFSETTO:-0400
TZNAME:EDT
DTSTART:20250309T070000
END:DAYLIGHT
BEGIN:STANDARD
TZOFFSETFROM:-0400
TZOFFSETTO:-0500
TZNAME:EST
DTSTART:20251102T060000
END:STANDARD
END:VTIMEZONE
BEGIN:VEVENT
DTSTART;TZID=America/New_York:20251002T160000
DTEND;TZID=America/New_York:20251002T190000
DTSTAMP:20260423T045315
CREATED:20191028T104053Z
LAST-MODIFIED:20251002T135330Z
UID:10000375-1759420800-1759431600@www.gardenclubjax.org
SUMMARY:2025 Garden Club Open House
DESCRIPTION:REGISTER NOWWhile Pre-RSVPs Have Closed You Can Still Register at the Door! We Hope to See You! \n—- \nJoin us for our annual Open House celebrating the upcoming year at #GardenClubJax! \nMingle: Get to know other #GardenClubJax members\, the Board of Trustees\, and members of the community. \nEnjoy: Stroll our campus while you enjoy live music\, small bites\, and a beverage. \nJoin: Learn about all the reasons why you should be a member of our growing organization. \nMark your calendar: Learn about the exciting year of programs in store. \nGet involved: Sign up to help facilitate our programs or to work during our Volunteer Days on campus. \nThank you to our sponsors! \nAnthony’s Catering for small bites. \nEvent Works for beautiful couch seating. \nChef’s Garden for delicious champagne. \nThe event is free and open to the public\, but registration is required to help the Garden Club gauge how much refreshments to provide. \nWe appreciate your donation to help underwrite the cost of this event. \nREGISTER NOW
URL:https://www.gardenclubjax.org/event/2025-garden-club-open-house/
LOCATION:Garden Club of Jacksonville\, 1005 Riverside Avenue\, Jacksonville\, FL\, 32204\, United States
CATEGORIES:Open House
ATTACH;FMTTYPE=image/jpeg:https://www.gardenclubjax.org/wp-content/uploads/2019/10/10.03.2024-Open-House-scaled.jpg
END:VEVENT
BEGIN:VEVENT
DTSTART;TZID=America/New_York:20250904T170000
DTEND;TZID=America/New_York:20250904T200000
DTSTAMP:20260423T045315
CREATED:20191028T104053Z
LAST-MODIFIED:20250829T182622Z
UID:10000357-1757005200-1757016000@www.gardenclubjax.org
SUMMARY:904 Day: An Evening in the Garden
DESCRIPTION:RSVP FOR #904 DAYJoin Us For An Evening in the Garden!\n\nCelebrate #904Day with An Evening in the Garden on Thursday\, September 4th. \nWe invite members of the community into Jacksonville’s Garden to:\n\nLearn about our exciting new programs.\nVisit our Farmers and Flowers Market on the patio.\nConnect with local entrepreneurs and merchants from your neighborhood in our Small Business Showcase.\nEnjoy light bites by Anthony’s Catering and local entertainment as you close out #904Day with us.\nEnjoy a special local multi-film showcase from 6 – 7 p.m. in our ballroom.\n\nHooray for #904Day! \nIn the spirit of celebrating local\, help support our mission with a special $9.04 donation by clicking HERE. \nAre you a small business that would to contribute to 5-Points’ vibrancy? Donate $904 HERE. \nGenerous donations of $9\,040 will be posted on our website. Donate HERE. \nVendor inquiries please email info@gardenclubjax.org. \n\nRSVP FOR #904 DAY
URL:https://www.gardenclubjax.org/event/904-day-an-evening-in-the-garden/
LOCATION:Garden Club of Jacksonville\, 1005 Riverside Avenue\, Jacksonville\, FL\, 32204\, United States
CATEGORIES:Open House
ATTACH;FMTTYPE=image/jpeg:https://www.gardenclubjax.org/wp-content/uploads/2019/10/904-Day-Banner-5.jpg
END:VEVENT
BEGIN:VEVENT
DTSTART;TZID=America/New_York:20241003T160000
DTEND;TZID=America/New_York:20241003T190000
DTSTAMP:20260423T045315
CREATED:20191028T104053Z
LAST-MODIFIED:20240425T193840Z
UID:10000280-1727971200-1727982000@www.gardenclubjax.org
SUMMARY:2024 Garden Club Open House
DESCRIPTION:REGISTER NOWJoin us for our annual Open House celebrating the upcoming year at #GardenClubJax! \nMingle: Get to know other #GardenClubJax members\, the Board of Trustees\, and members of the community. \nEnjoy: Stroll our campus while you enjoy live music\, small bites\, and a beverage. \nJoin: Learn about all the reasons why you should be a member of our growing organization. \nMark your calendar: Learn about the exciting year of programs in store. \nGet involved: Sign up to help facilitate our programs or to work during our Volunteer Days on campus. \nThe event is free and open to the public\, but registration is required to help the Garden Club gauge how much refreshments to provide. \nWe appreciate your donation to help underwrite the cost of this event. \nSponsorship Opportunities\nThe sponsor of the 2024 Open House receives: \n\nRecognition on our event pages\nRecognition in our email marketing to more than 6\,000 contacts\nRecognition on our social media channels\nRecognition on event slideshow\nRecognition in our blog post after the program\nSponsor table at the Open House\n\nIf you have questions about sponsorship\, please email info@gardenclubjax.org or call 904-355-4224. \nREGISTER NOW
URL:https://www.gardenclubjax.org/event/2024-garden-club-open-house/
LOCATION:Garden Club of Jacksonville\, 1005 Riverside Avenue\, Jacksonville\, FL\, 32204\, United States
CATEGORIES:Open House
ATTACH;FMTTYPE=image/jpeg:https://www.gardenclubjax.org/wp-content/uploads/2019/10/10.03.2024-Open-House-scaled.jpg
END:VEVENT
BEGIN:VEVENT
DTSTART;TZID=America/New_York:20230928T160000
DTEND;TZID=America/New_York:20230928T190000
DTSTAMP:20260423T045315
CREATED:20191028T104053Z
LAST-MODIFIED:20230720T214750Z
UID:10000199-1695916800-1695927600@www.gardenclubjax.org
SUMMARY:2023 Garden Club Open House
DESCRIPTION:REGISTER NOWIt’s time to plant at the Garden Club of Jacksonville! We celebrated our 100th anniversary year\, and now we’re looking toward the future. We’re growing new programs and events\, new members\, new landscape plans—and new friends like you! \nJoin us for our annual Open House celebrating the upcoming year at #GardenClubJax! Enjoy small bites\, music by saxophonist Pierre Kendrick\, and a cash donation bar as you mingle with a community of people who share your love for the environment. \nLearn about the exciting year of programs ahead and all the reasons why you should be a member of our growing organization. \nFind out how you can get involved—sign up to volunteer on committees or to help at various programs. \nThe event is free and open to the public\, but registration is required to help the Garden Club gauge how much refreshments to provide. \nWe appreciate your donation to help underwrite the cost of this event. \nREGISTER NOW
URL:https://www.gardenclubjax.org/event/2023-garden-club-open-house/
LOCATION:Garden Club of Jacksonville\, 1005 Riverside Avenue\, Jacksonville\, FL\, 32204\, United States
CATEGORIES:Open House
ATTACH;FMTTYPE=image/jpeg:https://www.gardenclubjax.org/wp-content/uploads/2019/10/09.28.2023-Open-House-scaled.jpg
END:VEVENT
BEGIN:VEVENT
DTSTART;TZID=America/New_York:20221006T160000
DTEND;TZID=America/New_York:20221006T190000
DTSTAMP:20260423T045315
CREATED:20191028T104053Z
LAST-MODIFIED:20220926T161149Z
UID:10000168-1665072000-1665082800@www.gardenclubjax.org
SUMMARY:2022 Garden Club Open House
DESCRIPTION:REGISTER NOWDue to Hurricane Ian\, this event has been rescheduled to October 6\, 2022.​ \nWe’re 100 years and growing! Join us for our annual Open House celebrating the 100th Anniversary of the Garden Club of Jacksonville! Enjoy hors d’oeuvres\, music\, and a cash bar as you mingle with a community of people who share your love for the environment. \nJoin the toast to our 100th year and learn about the exciting season of programs and events in the months ahead. \nThe event is free and open to the public\, but registration is required to help the Garden Club gauge how much refreshments to provide. \nWe appreciate your donation to help underwrite the cost of this event. \nREGISTER NOW
URL:https://www.gardenclubjax.org/event/2022-garden-club-open-house/
LOCATION:Garden Club of Jacksonville\, 1005 Riverside Avenue\, Jacksonville\, FL\, 32204\, United States
CATEGORIES:Open House
ATTACH;FMTTYPE=image/jpeg:https://www.gardenclubjax.org/wp-content/uploads/2019/10/09.28.2022-Open-House.jpg
END:VEVENT
BEGIN:VEVENT
DTSTART;TZID=America/New_York:20211021T160000
DTEND;TZID=America/New_York:20211021T190000
DTSTAMP:20260423T045315
CREATED:20191028T104053Z
LAST-MODIFIED:20211019T161958Z
UID:10000044-1634832000-1634842800@www.gardenclubjax.org
SUMMARY:2021 Garden Club Open House
DESCRIPTION:REGISTER NOWThe Garden Club of Jacksonville welcomes all its members and the general public to an open house celebrating its origins in 1922 and the upcoming year of programs leading up to its 100th anniversary in 2022. \nLearn about fun and informative events like Horticulture Corner\, Budding Gardeners\, Fun with Flowers\, Combined Circles\, Designer of Distinction\, Flea Market\, and Blooms Galore & More. The Garden Club is also organizing the Horticulture Show at the Greater Jacksonville Agricultural Fair. Find out how you can become a Garden Club member and volunteer at events like these and more. \nTake a tour of the new Carolyn Marsh Lindsay Library\, built with a generous donation from longtime Garden Club member Carolyn Marsh Lindsay and her family to house her collection of books to encourage education and appreciation for gardening and environmental stewardship. Lindsay died on May 18\, 2021\, but she personally oversaw the design of the space. She hoped her donation would encourage others to invest in the Garden Club’s landscape redesign plans. \nEnjoy small bites catered and celebrate with punch or a mimosa! \nThis program will be offered in-person at the Garden Club. Masks are optional for those who are fully vaccinated against COVID-19 but are recommended to help protect everyone. Those who are unvaccinated should wear masks; the Garden Club appreciates your cooperation. \nThe event is free and open to the public\, but we appreciate your donation to help offset the cost of food and beverages. \nREGISTER NOW
URL:https://www.gardenclubjax.org/event/2021-garden-club-open-house/
LOCATION:Garden Club of Jacksonville | Ballroom\, 1005 Riverside Avenue\, Jacksonville\, FL\, 32204\, United States
CATEGORIES:Open House
ATTACH;FMTTYPE=image/jpeg:https://www.gardenclubjax.org/wp-content/uploads/2019/10/Garden-Club-Open-House-scaled.jpg
END:VEVENT
END:VCALENDAR