BEGIN:VCALENDAR
VERSION:2.0
PRODID:-//Garden Club of Jacksonville - ECPv6.3.4//NONSGML v1.0//EN
CALSCALE:GREGORIAN
METHOD:PUBLISH
X-WR-CALNAME:Garden Club of Jacksonville
X-ORIGINAL-URL:https://www.gardenclubjax.org
X-WR-CALDESC:Events for Garden Club of Jacksonville
REFRESH-INTERVAL;VALUE=DURATION:PT1H
X-Robots-Tag:noindex
X-PUBLISHED-TTL:PT1H
BEGIN:VTIMEZONE
TZID:America/New_York
BEGIN:DAYLIGHT
TZOFFSETFROM:-0500
TZOFFSETTO:-0400
TZNAME:EDT
DTSTART:20190310T070000
END:DAYLIGHT
BEGIN:STANDARD
TZOFFSETFROM:-0400
TZOFFSETTO:-0500
TZNAME:EST
DTSTART:20191103T060000
END:STANDARD
BEGIN:DAYLIGHT
TZOFFSETFROM:-0500
TZOFFSETTO:-0400
TZNAME:EDT
DTSTART:20200308T070000
END:DAYLIGHT
BEGIN:STANDARD
TZOFFSETFROM:-0400
TZOFFSETTO:-0500
TZNAME:EST
DTSTART:20201101T060000
END:STANDARD
BEGIN:DAYLIGHT
TZOFFSETFROM:-0500
TZOFFSETTO:-0400
TZNAME:EDT
DTSTART:20210314T070000
END:DAYLIGHT
BEGIN:STANDARD
TZOFFSETFROM:-0400
TZOFFSETTO:-0500
TZNAME:EST
DTSTART:20211107T060000
END:STANDARD
END:VTIMEZONE
BEGIN:VEVENT
DTSTART;TZID=America/New_York:20211021T160000
DTEND;TZID=America/New_York:20211021T190000
DTSTAMP:20260419T213204
CREATED:20191028T104053Z
LAST-MODIFIED:20211019T161958Z
UID:10000044-1634832000-1634842800@www.gardenclubjax.org
SUMMARY:2021 Garden Club Open House
DESCRIPTION:REGISTER NOWThe Garden Club of Jacksonville welcomes all its members and the general public to an open house celebrating its origins in 1922 and the upcoming year of programs leading up to its 100th anniversary in 2022. \nLearn about fun and informative events like Horticulture Corner\, Budding Gardeners\, Fun with Flowers\, Combined Circles\, Designer of Distinction\, Flea Market\, and Blooms Galore & More. The Garden Club is also organizing the Horticulture Show at the Greater Jacksonville Agricultural Fair. Find out how you can become a Garden Club member and volunteer at events like these and more. \nTake a tour of the new Carolyn Marsh Lindsay Library\, built with a generous donation from longtime Garden Club member Carolyn Marsh Lindsay and her family to house her collection of books to encourage education and appreciation for gardening and environmental stewardship. Lindsay died on May 18\, 2021\, but she personally oversaw the design of the space. She hoped her donation would encourage others to invest in the Garden Club’s landscape redesign plans. \nEnjoy small bites catered and celebrate with punch or a mimosa! \nThis program will be offered in-person at the Garden Club. Masks are optional for those who are fully vaccinated against COVID-19 but are recommended to help protect everyone. Those who are unvaccinated should wear masks; the Garden Club appreciates your cooperation. \nThe event is free and open to the public\, but we appreciate your donation to help offset the cost of food and beverages. \nREGISTER NOW
URL:https://www.gardenclubjax.org/event/2021-garden-club-open-house/
LOCATION:Garden Club of Jacksonville | Ballroom\, 1005 Riverside Avenue\, Jacksonville\, FL\, 32204\, United States
CATEGORIES:Open House
ATTACH;FMTTYPE=image/jpeg:https://www.gardenclubjax.org/wp-content/uploads/2019/10/Garden-Club-Open-House-scaled.jpg
END:VEVENT
BEGIN:VEVENT
DTSTART;TZID=America/New_York:20211009T100000
DTEND;TZID=America/New_York:20211009T120000
DTSTAMP:20260419T213204
CREATED:20191028T104053Z
LAST-MODIFIED:20210904T223722Z
UID:10000040-1633773600-1633780800@www.gardenclubjax.org
SUMMARY:Budding Gardeners: Spiders Aren't Scary
DESCRIPTION:RESERVE YOUR SPACELearn about the important role of beneficial spiders in your garden and yard and understand the species where you should keep your distance. Experts from University of Florida Entomology and Nematology Department share their knowledge and will even have a few examples to show. Plant a flower that will attract friendly spiders to your yard and take it home to watch it grow. Then create a craft that helps you remember which spiders are friendly. You can even come dressed as a spider! \n\nBudding Gardeners is aimed at children in grades 1-6 to discover gardening\, conservation\, and wildlife through interactive programs\, crafts\, and outdoor projects. Children and their parents or caregivers collaborate during a morning of healthy and fun activities. A snack in sealed packaging will be served. \n\nCOVID-19 health and safety guidelines will be practiced during this event. We require guests to wear masks indoors at all times\, but we plan to hold much of this event outside with lots of space for physical distancing. Seating and work stations will be socially distanced. Masks are not required outdoors unless you cannot maintain at least six feet of distance from others. \nThe program is free for members and only $5 for nonmembers\, but space is limited. Registration is required\, so we know how many supplies to provide. Please call 904-355-4224 if your child cannot attend\, so we can allow those on the waiting list to take part. \nBecome a member today and get a BIG discount! \nFree for Garden Club members | $5 for nonmembers \nRESERVE YOUR SPACE
URL:https://www.gardenclubjax.org/event/budding-gardeners-spiders-arent-scary/
LOCATION:Garden Club of Jacksonville\, 1005 Riverside Avenue\, Jacksonville\, FL\, 32204\, United States
CATEGORIES:Budding Gardeners
ATTACH;FMTTYPE=image/jpeg:https://www.gardenclubjax.org/wp-content/uploads/2019/10/10.09.2021-Budding-Gardeners-Spiders-Arent-Scary-scaled.jpg
END:VEVENT
BEGIN:VEVENT
DTSTART;TZID=America/New_York:20210508T100000
DTEND;TZID=America/New_York:20210508T120000
DTSTAMP:20260419T213204
CREATED:20191028T104053Z
LAST-MODIFIED:20210328T145009Z
UID:10000135-1620468000-1620475200@www.gardenclubjax.org
SUMMARY:Budding Gardeners: The Amazing Honeybee
DESCRIPTION:Learn about the crucial role bees play in helping plants grow. Without bees\, many of the food sources we enjoy each day would be gone. \nA local beekeeper will display some bees in a special safety container and discuss their importance\, and children will learn about the lifecycle of bees. Each child will pot a flowering plant and make a Mother’s Day card to take home. They also leave with information about honeybees and a flowering seed pack. \n\nBudding Gardeners is aimed at children in grades 1-6 to discover gardening\, conservation\, and wildlife through interactive programs\, crafts\, and outdoor activities. \n\nA snack in sealed packaging will be served . \nCOVID-19 health and safety guidelines will be practiced during this event. Seating and work stations in the will be socially distanced. We plan to hold this event outside with lots of space for physical distancing. We do require people to wear masks indoors at all times. Masks are not required outdoors unless you cannot maintain at least six feet of distance from others. \nThe program is free for members and only $5 for nonmembers\, but space is limited. Registration is required\, so we know how many supplies to provide. Please call 904-355-4224 if your child cannot attend\, so we can allow those on the waiting list to take part. \nSponsored by the Alderman Park Circle \nBecome a member today and get a BIG discount! \nFree for Garden Club members | $5 for nonmembers \nRESERVE YOUR SPACE
URL:https://www.gardenclubjax.org/event/budding-gardeners-the-amazing-honeybee/
LOCATION:Garden Club of Jacksonville | Ballroom and Courtyard\, 1005 Riverside Avenue\, Jacksonville\, FL\, 32204\, United States
CATEGORIES:Budding Gardeners
ATTACH;FMTTYPE=image/jpeg:https://www.gardenclubjax.org/wp-content/uploads/2019/10/05.08.2021-Budding-Gardeners-The-Amazing-Honeybee.jpg
END:VEVENT
BEGIN:VEVENT
DTSTART;TZID=America/New_York:20210313T100000
DTEND;TZID=America/New_York:20210313T120000
DTSTAMP:20260419T213204
CREATED:20191028T104053Z
LAST-MODIFIED:20210223T204347Z
UID:10000132-1615629600-1615636800@www.gardenclubjax.org
SUMMARY:Budding Gardeners: Starting Sprouts
DESCRIPTION:Learn how to grow plants by using seeds\, taking cuttings from other plants\, or dividing larger plants. This is called “propagation.”  Children will get a chance to dig in the dirt\, learn the steps for nurturing their own plants\, and take home some supplies to try it on their own. \nBudding Gardeners is aimed at children in grades 1-6 to discover gardening\, conservation\, and wildlife through interactive programs\, crafts\, and outdoor activities. \nLight refreshments are provided. \nCOVID-19 health and safety guidelines will be practiced during this event. Seating and work stations in the Ballroom and Courtyard will be socially distanced\, and attendees must wear masks throughout the program. \nThe program is free for members and only $5 for nonmembers\, but space is limited. Registration is required\, so we know how many supplies to provide. \nSponsored by the Wildflower Circle \nPlease call 904-355-4224 if your child cannot attend\, so we can allow those on the waiting list to take part in this free activity. \nBecome a member today and get a BIG discount! \nFree for Garden Club members | $5 for nonmembers \nRESERVE YOUR SPACE
URL:https://www.gardenclubjax.org/event/budding-gardeners-starting-sprouts/
LOCATION:Garden Club of Jacksonville | Ballroom and Courtyard\, 1005 Riverside Avenue\, Jacksonville\, FL\, 32204\, United States
CATEGORIES:Budding Gardeners
ATTACH;FMTTYPE=image/jpeg:https://www.gardenclubjax.org/wp-content/uploads/2019/10/03.13.2021-Budding-Gardeners-Starting-Sprouts.jpg
END:VEVENT
BEGIN:VEVENT
DTSTART;TZID=America/New_York:20201114T100000
DTEND;TZID=America/New_York:20201114T120000
DTSTAMP:20260419T213204
CREATED:20191028T104053Z
LAST-MODIFIED:20201101T113239Z
UID:10000085-1605348000-1605355200@www.gardenclubjax.org
SUMMARY:Budding Gardeners: All About Bugs
DESCRIPTION:Learn about beneficial insects and how you can attract them to your yard. Go on a scavenger hunt for insect-friendly materials like leaves\, sticks\, and flowers\, then build your own bug hotel to take home. \nBudding Gardeners is aimed at children in grades 1-6 to discover gardening\, conservation\, and wildlife through interactive programs\, crafts\, and outdoor activities. \nLight refreshments are provided. \nCOVID-19 health and safety guidelines will be practiced during this event. Seating and work stations in the Ballroom and Courtyard will be socially distanced\, and attendees must wear masks throughout the program. \nThe program is free\, but space is limited. Registration is required\, so we know how many supplies to provide. \nSponsored by the San Marco Garden Circle \nPlease call 904-355-4224 if your child cannot attend\, so we can allow those on the waiting list to take part in this free activity. \nFREE \nRESERVATIONSGrow with Us — and Double Your Impact\nWhen you join\, renew\, or donate now\, the Jessie Ball duPont Fund will match up to $500 per transaction for a total of $25\,000 through December 31\, 2020. That doubles your support! You can give memberships to your family and friends—a gift that continues to give all year long. Now\, that’s real growth!\n\n\nJOIN
URL:https://www.gardenclubjax.org/event/budding-gardeners-all-about-bugs/
LOCATION:Garden Club of Jacksonville | Ballroom and Courtyard\, 1005 Riverside Avenue\, Jacksonville\, FL\, 32204\, United States
CATEGORIES:Budding Gardeners
ATTACH;FMTTYPE=image/jpeg:https://www.gardenclubjax.org/wp-content/uploads/2019/10/All-About-Bugs-scaled.jpg
END:VEVENT
BEGIN:VEVENT
DTSTART;TZID=America/New_York:20200208T100000
DTEND;TZID=America/New_York:20200208T120000
DTSTAMP:20260419T213204
CREATED:20191028T104053Z
LAST-MODIFIED:20191112T183554Z
UID:10000053-1581156000-1581163200@www.gardenclubjax.org
SUMMARY:Budding Gardeners: Backyard Birds
DESCRIPTION:Attract birds to your garden with a beautiful bird feeder to take home and make a bird-themed card for Valentine’s Day. \nThe program is free\, but space is limited. Registration is required\, so we know how many supplies to provide for this class. \nLight refreshments are provided.  \nSponsored by the Garden Divas of the Garden Club of Jacksonville. \nPlease call 904-355-4224 if your child cannot attend\, so we can allow those on the waiting list to take part in this free activity. \nFREE \nRESERVATIONS
URL:https://www.gardenclubjax.org/event/budding-gardeners-backyard-birds/
LOCATION:Garden Club of Jacksonville | Club Room\, 1005 Riverside Avenue\, Jacksonville\, FL\, 32204\, United States
CATEGORIES:Budding Gardeners
ATTACH;FMTTYPE=image/jpeg:https://www.gardenclubjax.org/wp-content/uploads/2019/10/Budding-Gardeners-Backyard-Birds-scaled.jpg
END:VEVENT
BEGIN:VEVENT
DTSTART;TZID=America/New_York:20191109T100000
DTEND;TZID=America/New_York:20191109T120000
DTSTAMP:20260419T213204
CREATED:20191028T104053Z
LAST-MODIFIED:20191107T004530Z
UID:10000030-1573293600-1573300800@www.gardenclubjax.org
SUMMARY:Budding Gardeners: Fantasy Gardens
DESCRIPTION:Children in grades 1-6 learn about gardening\, conservation\, and wildlife through interactive programs\, crafts\, and outdoor activities. Create a garden of fairies\, dragons\, or dinosaurs to take home. Learn about the fascinating world of reptiles. Plant all the ingredients you need for a salad in one bowl to grow at home\, pick\, and eat! \nThe program is free\, but space is limited. Registration is required\, so we know how many supplies to provide for this class. \nLight refreshments are provided. \nSponsored by the Wildflower Circle of the Garden Club of Jacksonville. \nPlease call 904-355-4224 if your child cannot attend\, so we can allow those on the waiting list to take part in this free activity. \nFREE \nRESERVATIONS
URL:https://www.gardenclubjax.org/event/budding-gardeners-fantasy-gardens/
LOCATION:Garden Club of Jacksonville | Club Room\, 1005 Riverside Avenue\, Jacksonville\, FL\, 32204\, United States
CATEGORIES:Budding Gardeners
ATTACH;FMTTYPE=image/jpeg:https://www.gardenclubjax.org/wp-content/uploads/2019/10/Event-Budding-Gardeners-Fantasy-Gardens.jpg
END:VEVENT
END:VCALENDAR