BEGIN:VCALENDAR
VERSION:2.0
PRODID:-//Garden Club of Jacksonville - ECPv6.3.4//NONSGML v1.0//EN
CALSCALE:GREGORIAN
METHOD:PUBLISH
X-WR-CALNAME:Garden Club of Jacksonville
X-ORIGINAL-URL:https://www.gardenclubjax.org
X-WR-CALDESC:Events for Garden Club of Jacksonville
REFRESH-INTERVAL;VALUE=DURATION:PT1H
X-Robots-Tag:noindex
X-PUBLISHED-TTL:PT1H
BEGIN:VTIMEZONE
TZID:America/New_York
BEGIN:DAYLIGHT
TZOFFSETFROM:-0500
TZOFFSETTO:-0400
TZNAME:EDT
DTSTART:20190310T070000
END:DAYLIGHT
BEGIN:STANDARD
TZOFFSETFROM:-0400
TZOFFSETTO:-0500
TZNAME:EST
DTSTART:20191103T060000
END:STANDARD
END:VTIMEZONE
BEGIN:VEVENT
DTSTART;TZID=America/New_York:20191203T100000
DTEND;TZID=America/New_York:20191203T110000
DTSTAMP:20260419T214800
CREATED:20191028T104053Z
LAST-MODIFIED:20191122T184209Z
UID:10000034-1575367200-1575370800@www.gardenclubjax.org
SUMMARY:Horticulture Corner: Orchids\, Orchids\, Orchids!
DESCRIPTION:Learn how to care for orchids and how to use them and other tropical plants in your holiday decor. \nProctor Ace Hardware on University Boulevard will have dozens of orchids and other plants available to purchase. Ace Hardware can accept cash or checks but cannot process credit cards at this event. \nOPTIONAL TIME: This program is also offered at 7-8 p.m. Monday\, December 2. \nFREE \nRESERVATIONS
URL:https://www.gardenclubjax.org/event/horticulture-corner-orchids-orchids-orchids-2019-12-03/
LOCATION:Garden Club of Jacksonville | Club Room\, 1005 Riverside Avenue\, Jacksonville\, FL\, 32204\, United States
CATEGORIES:Horticulture Corner
ATTACH;FMTTYPE=image/jpeg:https://www.gardenclubjax.org/wp-content/uploads/2019/10/Event-Horticulture-Corner-Orchids.jpg
END:VEVENT
BEGIN:VEVENT
DTSTART;TZID=America/New_York:20191202T190000
DTEND;TZID=America/New_York:20191202T200000
DTSTAMP:20260419T214800
CREATED:20191028T104053Z
LAST-MODIFIED:20191122T184113Z
UID:10000033-1575313200-1575316800@www.gardenclubjax.org
SUMMARY:Horticulture Corner: Orchids\, Orchids\, Orchids!
DESCRIPTION:EVENING PROGRAM \nLearn how to care for orchids and how to use them and other tropical plants in your holiday decor. \nProctor Ace Hardware on University Boulevard will have dozens of orchids and other plants available to purchase. Ace Hardware can accept cash or checks but cannot process credit cards at this event. \nOPTIONAL TIME: This program is also offered at 10-11 a.m. Tuesday\, December 3. \nFREE \nRESERVATIONS
URL:https://www.gardenclubjax.org/event/horticulture-corner-orchids-orchids-orchids/
LOCATION:Garden Club of Jacksonville | Club Room\, 1005 Riverside Avenue\, Jacksonville\, FL\, 32204\, United States
CATEGORIES:Horticulture Corner
ATTACH;FMTTYPE=image/jpeg:https://www.gardenclubjax.org/wp-content/uploads/2019/10/Event-Horticulture-Corner-Orchids.jpg
END:VEVENT
BEGIN:VEVENT
DTSTART;TZID=America/New_York:20191105T100000
DTEND;TZID=America/New_York:20191105T110000
DTSTAMP:20260419T214800
CREATED:20191028T104053Z
LAST-MODIFIED:20191101T092102Z
UID:10000029-1572948000-1572951600@www.gardenclubjax.org
SUMMARY:Horticulture Corner: Grow Your Groceries
DESCRIPTION:Attend this free educational program from one of Jacksonville’s most-beloved gardening personalities. You want to grow your groceries\, but there are so many questions: Where should I put my garden? What should I grow and when? How much space does everything need? Join Nathan Ballentine\, the Man in Overalls\, for an introduction on how to grow your groceries the easy way. \nRESERVATIONS
URL:https://www.gardenclubjax.org/event/horticulture-corner-grow-your-groceries/
LOCATION:Garden Club of Jacksonville | Club Room\, 1005 Riverside Avenue\, Jacksonville\, FL\, 32204\, United States
CATEGORIES:Horticulture Corner
ATTACH;FMTTYPE=image/jpeg:https://www.gardenclubjax.org/wp-content/uploads/2019/10/Event-Horticulture-Corner-Grow-Your-Groceries.jpg
END:VEVENT
END:VCALENDAR