BEGIN:VCALENDAR
VERSION:2.0
PRODID:-//Garden Club of Jacksonville - ECPv6.3.4//NONSGML v1.0//EN
CALSCALE:GREGORIAN
METHOD:PUBLISH
X-ORIGINAL-URL:https://www.gardenclubjax.org
X-WR-CALDESC:Events for Garden Club of Jacksonville
REFRESH-INTERVAL;VALUE=DURATION:PT1H
X-Robots-Tag:noindex
X-PUBLISHED-TTL:PT1H
BEGIN:VTIMEZONE
TZID:America/New_York
BEGIN:DAYLIGHT
TZOFFSETFROM:-0500
TZOFFSETTO:-0400
TZNAME:EDT
DTSTART:20200308T070000
END:DAYLIGHT
BEGIN:STANDARD
TZOFFSETFROM:-0400
TZOFFSETTO:-0500
TZNAME:EST
DTSTART:20201101T060000
END:STANDARD
END:VTIMEZONE
BEGIN:VEVENT
DTSTART;TZID=America/New_York:20200711T100000
DTEND;TZID=America/New_York:20200711T153000
DTSTAMP:20260423T094813
CREATED:20191028T104053Z
LAST-MODIFIED:20200709T155422Z
UID:10000007-1594461600-1594481400@www.gardenclubjax.org
SUMMARY:Centennial Garden Car Wash
DESCRIPTION:Get a great car wash and support the Centennial Garden at Historic Willow Branch Park. Drive up to the parking lot behind the Garden Club at 1005 Riverside Avenue. Proceeds from this donation-based car wash will help fund a lush garden featuring native plantings in addition to public art and reforestation. \nThere is plenty of room to be socially distant while supporting a great cause. \nRichard Ceriello\, president of the AIDS Memorial Project of Northeast Florida\, has been working to improve the park for several years. His organization has planted trees in the park to commemorate those who died of HIV/AIDS. \nHe and Theresa Parlato formed the Plant Parenthood Facebook group with a focus on developing and celebrating gardening arts among members of the Jacksonville LGBTQ community. They’ve been working with landscape architect Scott Dowman and D. Scott Fraser of Design Development Architecture on the long-term plans for Willow Branch Park. \nRegister today for the #GardenClubJax virtual program A Garden to Remember on July 14 to learn more about the Centennial Garden.
URL:https://www.gardenclubjax.org/event/centennial-garden-car-wash/
LOCATION:Garden Club of Jacksonville\, 1005 Riverside Avenue\, Jacksonville\, FL\, 32204\, United States
ATTACH;FMTTYPE=image/jpeg:https://www.gardenclubjax.org/wp-content/uploads/2019/10/Car-Wash-Facebook.jpg
ORGANIZER;CN="AIDS Memorial Project of Northeast Florida":MAILTO:aidsmemorialprojectofnefl@gmail.com
END:VEVENT
END:VCALENDAR