BEGIN:VCALENDAR
VERSION:2.0
PRODID:-//Garden Club of Jacksonville - ECPv6.3.4//NONSGML v1.0//EN
CALSCALE:GREGORIAN
METHOD:PUBLISH
X-WR-CALNAME:Garden Club of Jacksonville
X-ORIGINAL-URL:https://www.gardenclubjax.org
X-WR-CALDESC:Events for Garden Club of Jacksonville
REFRESH-INTERVAL;VALUE=DURATION:PT1H
X-Robots-Tag:noindex
X-PUBLISHED-TTL:PT1H
BEGIN:VTIMEZONE
TZID:America/New_York
BEGIN:DAYLIGHT
TZOFFSETFROM:-0500
TZOFFSETTO:-0400
TZNAME:EDT
DTSTART:20210314T070000
END:DAYLIGHT
BEGIN:STANDARD
TZOFFSETFROM:-0400
TZOFFSETTO:-0500
TZNAME:EST
DTSTART:20211107T060000
END:STANDARD
END:VTIMEZONE
BEGIN:VEVENT
DTSTART;TZID=America/New_York:20210323T183000
DTEND;TZID=America/New_York:20210323T203000
DTSTAMP:20260423T063012
CREATED:20191028T104053Z
LAST-MODIFIED:20210131T185134Z
UID:10000134-1616524200-1616531400@www.gardenclubjax.org
SUMMARY:Fun with Flowers: Soulful Stems
DESCRIPTION:Sarath McClennon and Kari Hartley\, co-owners and designers at Soulful Stems by S&K\, demonstrate several of their wondrous and whimsical floral designs at 6:30 p.m. Tuesday\, March 23. They’ll take you step-by-step through the process of creating a luxurious gift box arrangement\, then provide the materials to design your own. You’ll leave with a creation you can give as a gift or display at home. \nSoulful Stems by S&K specializes in creating complete wedding designs from show-stopping bouquets and boutonnieres to breathtaking centerpieces\, tablescapes\, and decor. The designers are known for their imaginative flourishes\, such as live floral necklaces\, boas\, crowns\, arm bands\, and tattoos. \nFun with Flowers is an educational outreach program that is open to the public. Founded by the Garden Club of Jacksonville more than 30 years ago\, Fun With Flowers has served as a model for similar programs offered throughout the United States. Attendees learn the latest professional design techniques\, then create breathtaking floral creations during the hands-on portion of the program. \nThis program will be offered in-person at the Garden Club and simultaneously on Zoom. Seating at the Garden Club is limited\, so register today. COVID-19 health and safety guidelines will be practiced during this event. Seating and work stations in the Ballroom will be socially distanced\, and attendees must wear masks throughout the entire program. \nIf you want to make your own arrangement at home\, you can choose the Zoom registration with materials and follow along at home. Your supplies will be ready for pick-up at noon-5 p.m. Monday\, March 22. \nBecome a member today and get a BIG discount! \n$25 for Garden Club Member Ballroom Ticket \n$35 for Nonmember Ballroom Ticket \n$25 for Garden Club Member Zoom Registration with Materials \n$35 for Nonmember Zoom Registration with Materials \n$10 for Garden Club Member Zoom Registration without Materials \n$15 for Nonmember Zoom Registration without Materials \nPURCHASE YOUR TICKET
URL:https://www.gardenclubjax.org/event/fun-with-flowers-soulful-stems/
LOCATION:Garden Club of Jacksonville | Ballroom\, 1005 Riverside Avenue\, Jacksonville\, FL\, 32204\, United States
CATEGORIES:Fun with Flowers,Virtual Programs
ATTACH;FMTTYPE=image/jpeg:https://www.gardenclubjax.org/wp-content/uploads/2019/10/03.23.2021-Fun-with-Flowers-Soulful-Stems.jpg
END:VEVENT
END:VCALENDAR