BEGIN:VCALENDAR
VERSION:2.0
PRODID:-//Garden Club of Jacksonville - ECPv6.3.4//NONSGML v1.0//EN
CALSCALE:GREGORIAN
METHOD:PUBLISH
X-ORIGINAL-URL:https://www.gardenclubjax.org
X-WR-CALDESC:Events for Garden Club of Jacksonville
REFRESH-INTERVAL;VALUE=DURATION:PT1H
X-Robots-Tag:noindex
X-PUBLISHED-TTL:PT1H
BEGIN:VTIMEZONE
TZID:America/New_York
BEGIN:DAYLIGHT
TZOFFSETFROM:-0500
TZOFFSETTO:-0400
TZNAME:EDT
DTSTART:20220313T070000
END:DAYLIGHT
BEGIN:STANDARD
TZOFFSETFROM:-0400
TZOFFSETTO:-0500
TZNAME:EST
DTSTART:20221106T060000
END:STANDARD
END:VTIMEZONE
BEGIN:VEVENT
DTSTART;TZID=America/New_York:20220813T100000
DTEND;TZID=America/New_York:20220813T120000
DTSTAMP:20260421T050359
CREATED:20191028T104053Z
LAST-MODIFIED:20220711T205921Z
UID:10000161-1660384800-1660392000@www.gardenclubjax.org
SUMMARY:Budding Gardeners: Busy Bees
DESCRIPTION:RESERVE YOUR SPACE\n\nLearn about the crucial role bees play in our world with Mika Hardison and Octavious Carr from The Herban Bee. See some live bees in action! Take home a plant that will help bees thrive in your neighborhood. Make a candle using beeswax and some honey slime to take home. \nBudding Gardeners is aimed at children in grades 1-6 to discover gardening\, conservation\, and wildlife through interactive programs\, crafts\, and outdoor projects. Children and their parents or caregivers collaborate during a morning of healthy and fun activities. A snack in sealed packaging will be served. \nThe program is free for members and only $5 for nonmembers\, but space is limited. Registration is required\, so we know how many supplies to provide. Please call 904-355-4224 if your child cannot attend\, so we can allow those on the waiting list to take part. \nBecome a member today and get a BIG discount! \n\nEach registration includes one parent and child. \n\nFree for Garden Club members | $5 for nonmembers \nGreat volunteer opportunity: Sign up here! \n\n\nRESERVE YOUR SPACE
URL:https://www.gardenclubjax.org/event/budding-gardeners-busy-bees/
LOCATION:Garden Club of Jacksonville\, 1005 Riverside Avenue\, Jacksonville\, FL\, 32204\, United States
CATEGORIES:Budding Gardeners
ATTACH;FMTTYPE=image/jpeg:https://www.gardenclubjax.org/wp-content/uploads/2019/10/08.13.2022-Budding-Gardeners-Busy-Bees.jpg
END:VEVENT
END:VCALENDAR