BEGIN:VCALENDAR
VERSION:2.0
PRODID:-//Garden Club of Jacksonville - ECPv6.3.4//NONSGML v1.0//EN
CALSCALE:GREGORIAN
METHOD:PUBLISH
X-ORIGINAL-URL:https://www.gardenclubjax.org
X-WR-CALDESC:Events for Garden Club of Jacksonville
REFRESH-INTERVAL;VALUE=DURATION:PT1H
X-Robots-Tag:noindex
X-PUBLISHED-TTL:PT1H
BEGIN:VTIMEZONE
TZID:America/New_York
BEGIN:DAYLIGHT
TZOFFSETFROM:-0500
TZOFFSETTO:-0400
TZNAME:EDT
DTSTART:20190310T070000
END:DAYLIGHT
BEGIN:STANDARD
TZOFFSETFROM:-0400
TZOFFSETTO:-0500
TZNAME:EST
DTSTART:20191103T060000
END:STANDARD
END:VTIMEZONE
BEGIN:VEVENT
DTSTART;TZID=America/New_York:20191121T100000
DTEND;TZID=America/New_York:20191121T120000
DTSTAMP:20260421T095829
CREATED:20191028T104053Z
LAST-MODIFIED:20191101T093046Z
UID:10000032-1574330400-1574337600@www.gardenclubjax.org
SUMMARY:Fun with Flowers: Art of the Table
DESCRIPTION:Learn from professionals how to make breathtaking floral creations in this hands-on workshop—then take home your work! Sandra Pfaff of Anything with Plants & Flowers provides step-by-step instructions on creating designs for entertaining. You’ll leave with a creation you’ll be proud to display at your home—just in time for the holidays! \nBecome a member today and get a BIG discount! \n$25 for Garden Club members | $35 for nonmembers \nTICKETS
URL:https://www.gardenclubjax.org/event/fun-with-flowers-art-of-the-table/
LOCATION:Garden Club of Jacksonville | Ballroom\, 1005 Riverside Avenue\, Jacksonville\, FL\, 32204\, United States
CATEGORIES:Fun with Flowers
ATTACH;FMTTYPE=image/jpeg:https://www.gardenclubjax.org/wp-content/uploads/2019/10/Event-Fun-with-Flowers-Art-of-the-Table.jpg
END:VEVENT
BEGIN:VEVENT
DTSTART;TZID=America/New_York:20191119T100000
DTEND;TZID=America/New_York:20191119T120000
DTSTAMP:20260421T095829
CREATED:20191028T104053Z
LAST-MODIFIED:20191107T105517Z
UID:10000031-1574157600-1574164800@www.gardenclubjax.org
SUMMARY:Combined Circles: Common Birds of Winter and Their Predators
DESCRIPTION:Dr. John V. Peterson\, owner of Wild Birds Unlimited of Jacksonville\, discusses the area’s year-round birds\, species that are passing through\, and their common predators in winter. He also shares information about native plants that help attract our winter visitors. \nFree for Garden Club members \nRESERVATIONS
URL:https://www.gardenclubjax.org/event/combined-circles-common-birds-of-winter-and-their-predators/
LOCATION:Garden Club of Jacksonville | Ballroom\, 1005 Riverside Avenue\, Jacksonville\, FL\, 32204\, United States
CATEGORIES:Combined Circles
ATTACH;FMTTYPE=image/jpeg:https://www.gardenclubjax.org/wp-content/uploads/2019/10/Event-Combined-Circles-Common-Birds-of-Winter-and-Their-Predators.jpg
END:VEVENT
BEGIN:VEVENT
DTSTART;TZID=America/New_York:20191112T103000
DTEND;TZID=America/New_York:20191112T120000
DTSTAMP:20260421T095830
CREATED:20191028T104053Z
LAST-MODIFIED:20191106T195320Z
UID:10000041-1573554600-1573560000@www.gardenclubjax.org
SUMMARY:Members’ Council: Building the Emerald Trail
DESCRIPTION:Attend this monthly members’ meeting of the Garden Club of Jacksonville. Kay Ehas\, CEO of Groundwork Jacksonville\, discusses the nonprofit’s design and implementation of the Emerald Trail. \nFree for Garden Club members \nRESERVATIONS
URL:https://www.gardenclubjax.org/event/members-council-building-the-emerald-trail-2/
LOCATION:Garden Club of Jacksonville | Ballroom\, 1005 Riverside Avenue\, Jacksonville\, FL\, 32204\, United States
CATEGORIES:Members’ Council
ATTACH;FMTTYPE=image/jpeg:https://www.gardenclubjax.org/wp-content/uploads/2019/10/Event-Members-Council-Emerald-Trail.jpg
END:VEVENT
END:VCALENDAR