BEGIN:VCALENDAR
VERSION:2.0
PRODID:-//Garden Club of Jacksonville - ECPv6.3.4//NONSGML v1.0//EN
CALSCALE:GREGORIAN
METHOD:PUBLISH
X-ORIGINAL-URL:https://www.gardenclubjax.org
X-WR-CALDESC:Events for Garden Club of Jacksonville
REFRESH-INTERVAL;VALUE=DURATION:PT1H
X-Robots-Tag:noindex
X-PUBLISHED-TTL:PT1H
BEGIN:VTIMEZONE
TZID:America/New_York
BEGIN:DAYLIGHT
TZOFFSETFROM:-0500
TZOFFSETTO:-0400
TZNAME:EDT
DTSTART:20200308T070000
END:DAYLIGHT
BEGIN:STANDARD
TZOFFSETFROM:-0400
TZOFFSETTO:-0500
TZNAME:EST
DTSTART:20201101T060000
END:STANDARD
END:VTIMEZONE
BEGIN:VEVENT
DTSTART;TZID=America/New_York:20200315T140000
DTEND;TZID=America/New_York:20200315T163000
DTSTAMP:20260423T111101
CREATED:20191028T104053Z
LAST-MODIFIED:20200307T181053Z
UID:10000075-1584280800-1584289800@www.gardenclubjax.org
SUMMARY:Sip+See: Birds and Blooms Garden Walk
DESCRIPTION:The Garden Club of Jacksonville and Women Writing for (a) Change Jacksonville collaborate on the inaugural Birds and Blooms Garden Walk. WWFAC Executive Director Jennifer Wolfe and naturalists from Duval Audubon Society and the Ixia Chapter of the Florida Native Plant Society guide tours from the WWFAC headquarters in historic Riverside to a series of lush gardens over a short six-block walk. Along the way\, visit the several Birds and Blooms sculpture stations with information about species you might encounter in the neighborhood.\n\nView the WWFAC “Blooms” exhibition of artists and poetry while you sample small bites and mimosas from 927 Events Catering. Admire eye-popping floral arrangements by Garden Club designers and a performance by a poet whose work appears in the “Blooms” exhibition.\n\nBecome a member today and get a BIG discount!\n\n$5 for Garden Club members | $15 for nonmembers\nTICKETS
URL:https://www.gardenclubjax.org/event/sip-and-see-birds-and-blooms-garden-walk/
LOCATION:Women Writing for (a) Change\, 1610 Osceola Street\, Jacksonville\, FL\, 32204\, United States
CATEGORIES:Sip+See
ATTACH;FMTTYPE=image/jpeg:https://www.gardenclubjax.org/wp-content/uploads/2019/10/Event-SipSee-BIrdsBlooms.jpg
END:VEVENT
END:VCALENDAR