BEGIN:VCALENDAR
VERSION:2.0
PRODID:-//Garden Club of Jacksonville - ECPv6.3.4//NONSGML v1.0//EN
CALSCALE:GREGORIAN
METHOD:PUBLISH
X-ORIGINAL-URL:https://www.gardenclubjax.org
X-WR-CALDESC:Events for Garden Club of Jacksonville
REFRESH-INTERVAL;VALUE=DURATION:PT1H
X-Robots-Tag:noindex
X-PUBLISHED-TTL:PT1H
BEGIN:VTIMEZONE
TZID:America/New_York
BEGIN:DAYLIGHT
TZOFFSETFROM:-0500
TZOFFSETTO:-0400
TZNAME:EDT
DTSTART:20200308T070000
END:DAYLIGHT
BEGIN:STANDARD
TZOFFSETFROM:-0400
TZOFFSETTO:-0500
TZNAME:EST
DTSTART:20201101T060000
END:STANDARD
BEGIN:DAYLIGHT
TZOFFSETFROM:-0500
TZOFFSETTO:-0400
TZNAME:EDT
DTSTART:20210314T070000
END:DAYLIGHT
BEGIN:STANDARD
TZOFFSETFROM:-0400
TZOFFSETTO:-0500
TZNAME:EST
DTSTART:20211107T060000
END:STANDARD
END:VTIMEZONE
BEGIN:VEVENT
DTSTART;TZID=America/New_York:20210524T140000
DTEND;TZID=America/New_York:20210524T150000
DTSTAMP:20260421T074154
CREATED:20191028T104053Z
LAST-MODIFIED:20210426T183329Z
UID:10000138-1621864800-1621868400@www.gardenclubjax.org
SUMMARY:Connected Lands+Waters
DESCRIPTION:Garden Club of Jacksonville and Renate Hixon of the Late Bloomers Garden Club invite you to learn about Connected Lands+Waters in Jacksonville\, the state of Florida\, and beyond. From Jacksonville’s riverfront and Emerald Trail to Florida’s greenways and landscape-scale protection\, join this conversation with Lindsay Stevens of The Nature Conservancy in Florida and Kay Ehas of Groundwork Jacksonville. \nRegister today for this Zoom program at 2 p.m. Monday\, May 24. This virtual program is free\, but you must register. Once you do\, we’ll send you the link\, so you can join the meeting. \nLearn more about the Garden Club’s virtual programs here. \nFREE \nREGISTER HERE
URL:https://www.gardenclubjax.org/event/connected-lands-and-waters/
LOCATION:Zoom Meeting\, FL\, United States
CATEGORIES:Virtual Programs
ATTACH;FMTTYPE=image/jpeg:https://www.gardenclubjax.org/wp-content/uploads/2021/04/05.24.2021-Connected-LandsWaters.jpg
END:VEVENT
BEGIN:VEVENT
DTSTART;TZID=America/New_York:20210311T100000
DTEND;TZID=America/New_York:20210311T120000
DTSTAMP:20260421T074154
CREATED:20191028T104053Z
LAST-MODIFIED:20210109T175147Z
UID:10000128-1615456800-1615464000@www.gardenclubjax.org
SUMMARY:Flower Show Series: Contemporary Designs
DESCRIPTION:Join floral designer Laura Haley as she demonstrates contemporary designs that could be entered in a flower show. Haley is the Governance Chair of the Garden Club of Jacksonville’s Board of Trustees\, a member of the Late Bloomers Garden Club\, and a 2019 National Garden Club of America Medalist for outstanding achievement in the field of floral design education. \nFlower shows have been around for hundreds of years and are popular forms of entertainment and education for exhibitors and visitors. The emphasis of most flower shows is to showcase horticultural specimens\, floral design creativity\, and conservation or environmental stewardship. A flower show’s rules and guidelines are presented in a schedule with the various subject divisions consisting of classes or categories of competition. \nIn the floral design division of a flower show\, the class titles become the source of inspiration and interpretation.. The class description may also specify a particular design type\, such table design. During this program\, Haley will emphasize how the class title was interpreted. A floral design judge\, exhibitor\, and educator\, Haley will demonstrate designs from actual flower shows\, explaining concept and interpretation. She will include insight into design styles and mechanics for creating contemporary designs and explain how understanding the principles and elements of design serve to guide exhibitors in their floral designs. \nRegister today for this Zoom program at 10 a.m. Thursday\, March 11. This virtual program is free\, but you must register. Once you do\, we’ll send you the link\, so you can join the meeting. \nLearn more about the Garden Club’s virtual programs here. \nFREE \nREGISTER HERE
URL:https://www.gardenclubjax.org/event/flower-show-series-contemporary-designs/
LOCATION:Zoom Meeting\, FL\, United States
CATEGORIES:Flower Show,Virtual Programs
ATTACH;FMTTYPE=image/jpeg:https://www.gardenclubjax.org/wp-content/uploads/2019/10/03.11.2021-Contemporary-Designs-1600x900-1.jpg
END:VEVENT
BEGIN:VEVENT
DTSTART;TZID=America/New_York:20210209T143000
DTEND;TZID=America/New_York:20210209T163000
DTSTAMP:20260421T074154
CREATED:20191028T104053Z
LAST-MODIFIED:20210128T161621Z
UID:10000127-1612881000-1612888200@www.gardenclubjax.org
SUMMARY:Flower Show Series: Designing the Perfect Table
DESCRIPTION:Join floral designer Laura Haley as she demonstrates eye-popping table settings as examples of what can be entered in flower shows. Haley is the Governance Chair of the Garden Club of Jacksonville’s Board of Trustees\, a member of the Late Bloomers Garden Club\, and a 2019 National Garden Club of America Medalist for outstanding achievement in the field of floral design education. \nFlower shows have been around for hundreds of years and are popular forms of entertainment and education for exhibitors and visitors. The emphasis of most flower shows is to showcase horticultural specimens\, floral design creativity\, and conservation or environmental stewardship. A flower show’s rules and guidelines are presented in a schedule with the various subject divisions consisting of classes or categories of competition. \nIn the floral design division of a flower show\, the class titles become the source of inspiration and interpretation.. The class description may also specify a particular design type\, such table design. During this program\, Haley will demonstrate the difference between functional and exhibition table classes that one might see at a flower show. \nRegister today for this Zoom program at 2:30 p.m. Tuesday\, February 9. This virtual program is free\, but you must register. Once you do\, we’ll send you the link\, so you can join the meeting. \nLearn more about the Garden Club’s virtual programs here. \nFREE \nREGISTER HERE
URL:https://www.gardenclubjax.org/event/flower-show-series-designing-the-perfect-table/
LOCATION:Zoom Meeting\, FL\, United States
CATEGORIES:Flower Show,Virtual Programs
ATTACH;FMTTYPE=image/jpeg:https://www.gardenclubjax.org/wp-content/uploads/2019/10/Designing-the-Perfect-Table.jpg
END:VEVENT
BEGIN:VEVENT
DTSTART;TZID=America/New_York:20201105T183000
DTEND;TZID=America/New_York:20201105T193000
DTSTAMP:20260421T074154
CREATED:20191028T104053Z
LAST-MODIFIED:20201101T113336Z
UID:10000106-1604601000-1604604600@www.gardenclubjax.org
SUMMARY:Crazy for Canning
DESCRIPTION:Join Michelle McInnis\, owner and head chef of The Sweet Spot & Urban Lounge\, for a discussion and demonstration on canning food—everything from jams and jellies to vegetables and homemade soup. This program is perfectly timed before Thanksgiving when many people need options for preserving leftovers. \nMcInnis\, known as Chef Shelli\, has been growing food since she was a kid who liked to dig in the dirt. As a trained pastry chef\, she has learned how to make the best use of every fruit and vegetable that passes through her kitchen\, and she hates to see food go to waste. \nShe and her husband opened The Sweet Spot & Urban lounge to combine their passions—dessert and music. The shop includes shelves of canned jams\, jellies\, and pickled vegetables. \nRegister today for this Zoom program at 6:30 p.m. Thursday\, November 5. This virtual program is free\, but you must register. Once you do\, we’ll send you the link\, so you can join the meeting. \nLearn more about the Garden Club’s virtual programs here. \nFREE \nREGISTRATIONYour Content Goes Here \nGrow with Us — and Double Your Impact\nWhen you join\, renew\, or donate now\, the Jessie Ball duPont Fund will match up to $500 per transaction for a total of $25\,000 through December 31\, 2020. That doubles your support! You can give memberships to your family and friends—a gift that continues to give all year long. Now\, that’s real growth!\n\n\nJOIN
URL:https://www.gardenclubjax.org/event/crazy-for-canning/
LOCATION:Zoom Meeting\, FL\, United States
CATEGORIES:Virtual Programs
ATTACH;FMTTYPE=image/jpeg:https://www.gardenclubjax.org/wp-content/uploads/2019/10/11.05.2020-Crazy-for-Canning.jpg
END:VEVENT
BEGIN:VEVENT
DTSTART;TZID=America/New_York:20201006T120000
DTEND;TZID=America/New_York:20201006T130000
DTSTAMP:20260421T074154
CREATED:20191028T104053Z
LAST-MODIFIED:20200904T185718Z
UID:10000023-1601985600-1601989200@www.gardenclubjax.org
SUMMARY:Horticulture Corner: Foodscaping
DESCRIPTION:Home landscapes can go beyond ornamental plants. You can grow food in your landscape\, too—and enjoy the beauty and the utility of edible plants. Whether your home has a giant yard or a small patio\, you can incorporate foodscaping into your plan. \nBeth Marlowe\, urban garden coordinator at the UF|IFAS Extension Office of Duval County\, discusses ways to use your existing garden beds or containers to grow herbs\, leafy greens\, edible flowers\, and much more. She’ll also provide tips for navigating homeowners association rules and avoiding dangerous herbicides and pesticides on plants you intend to eat. \nRegister today for the program at noon Tuesday\, October 6. This virtual program is free\, but you must register. Once you do\, we’ll send you the link\, so you can join the meeting. \nLearn more about the Garden Club’s virtual programs here. \nFree and open to the public \nREGISTRATION
URL:https://www.gardenclubjax.org/event/horticulture-corner-foodscaping/
LOCATION:Zoom Meeting\, FL\, United States
CATEGORIES:Horticulture Corner,Virtual Programs
ATTACH;FMTTYPE=image/jpeg:https://www.gardenclubjax.org/wp-content/uploads/2019/10/10.06.2020-Foodscaping.jpg
END:VEVENT
BEGIN:VEVENT
DTSTART;TZID=America/New_York:20200820T183000
DTEND;TZID=America/New_York:20200820T193000
DTSTAMP:20260421T074154
CREATED:20191028T104053Z
LAST-MODIFIED:20200728T221441Z
UID:10000011-1597948200-1597951800@www.gardenclubjax.org
SUMMARY:Transform Downtown's Riverfront
DESCRIPTION:Jacksonville has a distinct opportunity to turn city-owned property in Downtown into an iconic riverfront for all. #GardenClubJax  joins Scenic Jacksonville Executive Director Nancy Powell and President Susan Caven for a discussion about their vision for a connected network of extensive public green space and active parks along Jacksonville’s Downtown riverfront that maximizes public access\, reconnects the community to our river\, and creates a sense of place. The initiative is called Riverfront Parks Now\, and they have enlisted the support of several organizations\, including Greenscape of Jacksonville\, the St. Johns Riverkeeper\, and the Late Bloomers Garden Club. \nRegister today for the program at 6:30 p.m. Thursday\, August 20. This virtual program is free\, but you must register. Once you do\, we’ll send you the link\, so you can join the meeting. \nLearn more about the Garden Club’s virtual programs here. \nFREE \nREGISTRATION
URL:https://www.gardenclubjax.org/event/transform-downtowns-riverfront/
LOCATION:Zoom Meeting\, FL\, United States
CATEGORIES:Virtual Programs
ATTACH;FMTTYPE=image/jpeg:https://www.gardenclubjax.org/wp-content/uploads/2019/10/Transform-Downtowns-Riverfront-scaled.jpg
END:VEVENT
BEGIN:VEVENT
DTSTART;TZID=America/New_York:20200811T183000
DTEND;TZID=America/New_York:20200811T193000
DTSTAMP:20260421T074154
CREATED:20191028T104053Z
LAST-MODIFIED:20200728T215137Z
UID:10000009-1597170600-1597174200@www.gardenclubjax.org
SUMMARY:Make Your Garden a Habitat
DESCRIPTION:Do you want to attract butterflies and other forms of life to your garden? #GardenClubJax joins Bill Berthet\, the 2019 winner of the St. Johns Riverkeeper’s Best River-friendly Wildlife Habitat Yard award\, for a tour of the incredible environment he has created to attract living creatures. Learn how you can provide the best foundation for trees\, bushes\, plants\, and vines to attract Northeast Florida pollinators and blooming times throughout the year to maximize their visits. \nBerthet has dedicated much of his life to learning and traveling the world to see butterflies. He’s documented 64 different butterfly species in his yard situated on Julington Creek. He recently revised his 72-page guide packed with valuable information about bees\, wasps\, and 28 species of butterflies\, including several pages about what might be killing caterpillars in your garden. \nRegister today for the program at 6:30 p.m. Tuesday\, August 11. This virtual program is free\, but you must register. Once you do\, we’ll send you the link\, so you can join the meeting. \nLearn more about the Garden Club’s virtual programs here. \nFREE \nREGISTRATION
URL:https://www.gardenclubjax.org/event/make-your-garden-a-habitat/
LOCATION:Zoom Meeting\, FL\, United States
CATEGORIES:Virtual Programs
ATTACH;FMTTYPE=image/jpeg:https://www.gardenclubjax.org/wp-content/uploads/2019/10/Make-Your-Garden-a-Habitat-2.jpg
END:VEVENT
BEGIN:VEVENT
DTSTART;TZID=America/New_York:20200714T183000
DTEND;TZID=America/New_York:20200714T193000
DTSTAMP:20260421T074154
CREATED:20191028T104053Z
LAST-MODIFIED:20200709T155458Z
UID:10000103-1594751400-1594755000@www.gardenclubjax.org
SUMMARY:A Garden to Remember
DESCRIPTION:#GardenClubJax joins the people raising support for the Centennial Garden at Historic Willow Branch Park. Richard Ceriello\, president of the AIDS Memorial Project of Northeast Florida\, has been working to improve the park for several years. His organization has planted trees in the park to commemorate those who died of HIV/AIDS. Now they have a plan for a lush garden featuring native plantings in addition to public art and reforestation. \nHe and Theresa Parlato formed the Plant Parenthood Facebook group with a focus on developing and celebrating gardening arts among members of the Jacksonville LGBTQ community. They’ve been working with landscape architect Scott Dowman and D. Scott Fraser of Design Development Architecture on the long-term plans for Willow Branch Park. \nRegister today for the program at 6:30 p.m. Tuesday\, July 14. This virtual program is free\, but you must register. Once you do\, we’ll send you the link\, so you can join the meeting. \nSupport the Centennial Garden by attending the Car Wash on July 11. \nLearn more about the Garden Club’s virtual programs here. \nFREE \nREGISTRATION
URL:https://www.gardenclubjax.org/event/a-garden-to-remember/
LOCATION:Zoom Meeting\, FL\, United States
CATEGORIES:Virtual Programs
ATTACH;FMTTYPE=image/jpeg:https://www.gardenclubjax.org/wp-content/uploads/2019/10/A-Garden-to-Remember-scaled.jpg
END:VEVENT
BEGIN:VEVENT
DTSTART;TZID=America/New_York:20200707T183000
DTEND;TZID=America/New_York:20200707T193000
DTSTAMP:20260421T074154
CREATED:20191028T104053Z
LAST-MODIFIED:20200630T212150Z
UID:10000102-1594146600-1594150200@www.gardenclubjax.org
SUMMARY:A Different Kind of Landscaping
DESCRIPTION:People approach landscaping in many different ways depending on their circumstances. In the case of Shawana Brooks\, development director at Jacksonville Arts & Music School\, and visual artist Roosevelt Watson III\, they came up with an ingenious way to dress up their yard and communicate with neighbors and the public-at-large. As renters\, they wanted something flexible that also spoke to their artistic and creative sensibilities. Also\, their house is situated one block from a Superfund site where hazardous waste contaminated the area\, making growing their own food risky for their family’s health. \nTogether\, they created the 6 Ft. Away Gallery\, a pop-up public art space created by Brooks in response to the pandemic and the lack of opportunities for African-American artists. The gallery features Watson’s “Waymaker” series honoring the legacy of local and national contributions of lesser-known African-Americans and their allies. \nRegister today for the program at 6 p.m. Tuesday\, June 30. This virtual program is free\, but you must register. Once you do\, we’ll send you the link\, so you can join the meeting. \nLearn more about the Garden Club’s virtual programs here. \nFREE \nREGISTRATION
URL:https://www.gardenclubjax.org/event/a-different-kind-of-landscaping/
LOCATION:Zoom Meeting\, FL\, United States
CATEGORIES:Virtual Programs
ATTACH;FMTTYPE=image/jpeg:https://www.gardenclubjax.org/wp-content/uploads/2019/10/A-Different-Kind-of-Landscaping-scaled.jpg
END:VEVENT
BEGIN:VEVENT
DTSTART;TZID=America/New_York:20200623T180000
DTEND;TZID=America/New_York:20200623T190000
DTSTAMP:20260421T074154
CREATED:20191028T104053Z
LAST-MODIFIED:20200607T195710Z
UID:10000101-1592935200-1592938800@www.gardenclubjax.org
SUMMARY:Grow Your Groceries the Lazy Way
DESCRIPTION:Join Nathan Ballentine\, the Man in Overalls\, for an introduction to organic\, raised-bed summer food gardening (#GrowYourGroceries). Learn what and how to grow in the summertime to succeed. We’ll quickly cover grass-to-garden basics like how to pick a site\, garden bed types\, and healthy soil. Then\, we will focus on summer-loving varieties and lazy ways to prevent weeds\, manage pests\, and minimize the need to water. We’ll finish with a chat about harvesting and summer recipes. Bring plenty of questions. Experienced gardeners are also welcome. \nRegister today for the program at 6 p.m. Tuesday\, June 23. This virtual program is free\, but you must register. Once you do\, we’ll send you the link\, so you can join the meeting. \nLearn more about the Garden Club’s virtual programs here. \nFREE \nREGISTRATION
URL:https://www.gardenclubjax.org/event/grow-your-groceries-the-lazy-way/
LOCATION:Zoom Meeting\, FL\, United States
CATEGORIES:Virtual Programs
ATTACH;FMTTYPE=image/jpeg:https://www.gardenclubjax.org/wp-content/uploads/2019/10/Grow-Your-Groceries-the-Lazy-Way-scaled.jpg
END:VEVENT
BEGIN:VEVENT
DTSTART;TZID=America/New_York:20200618T173000
DTEND;TZID=America/New_York:20200618T183000
DTSTAMP:20260421T074154
CREATED:20191028T104053Z
LAST-MODIFIED:20200526T152755Z
UID:10000094-1592501400-1592505000@www.gardenclubjax.org
SUMMARY:Explore the Arboretum
DESCRIPTION:Join us on Zoom for a virtual tour of the Jacksonville Arboretum & Gardens with Executive Director Dana Doody. Dana and other Arboretum volunteers will discuss changes at the park\, new trails and gardens\, plans for the future\, and how you can get involved. \nRegister today for the program at 5:30 p.m. Thursday\, June 18. This virtual program is free\, but you must register. Once you do\, we’ll send you the link\, so you can join the meeting. \nLearn more about the Garden Club’s virtual programs here. \nFREE \nREGISTRATION
URL:https://www.gardenclubjax.org/event/explore-the-arboretum/
LOCATION:Zoom Meeting\, FL\, United States
CATEGORIES:Virtual Programs
ATTACH;FMTTYPE=image/jpeg:https://www.gardenclubjax.org/wp-content/uploads/2019/10/Explore-the-Arboretum-Image.jpg
END:VEVENT
BEGIN:VEVENT
DTSTART;TZID=America/New_York:20200522T173000
DTEND;TZID=America/New_York:20200522T180000
DTSTAMP:20260421T074154
CREATED:20191028T104053Z
LAST-MODIFIED:20200506T210649Z
UID:10000087-1590168600-1590170400@www.gardenclubjax.org
SUMMARY:Natural Pest Control
DESCRIPTION:Join us on Zoom for Natural Pest Control with Joshua Rosenberg\, owner of NativeJax Permaculture Design & Real Estate and a #GardenClubJax member. Joshua will discuss how you can use plants to deter pests and the role of biodiversity and soil health in reducing pesky bugs. He’ll also show you how to brew up some compost tea! \nRegister today for the program at 5:30 p.m. Friday\, May 22. This virtual program is free\, but you must register. Once you do\, we’ll send you the link\, so you can join the meeting. \nLearn more about the Garden Club’s virtual programs here. \nFREE \nREGISTRATION
URL:https://www.gardenclubjax.org/event/natural-pest-control/
LOCATION:Zoom Meeting\, FL\, United States
CATEGORIES:Virtual Programs
ATTACH;FMTTYPE=image/jpeg:https://www.gardenclubjax.org/wp-content/uploads/2019/10/Natural-Pest-Control-Image.jpg
END:VEVENT
BEGIN:VEVENT
DTSTART;TZID=America/New_York:20200507T173000
DTEND;TZID=America/New_York:20200507T180000
DTSTAMP:20260421T074154
CREATED:20191028T104053Z
LAST-MODIFIED:20200526T132514Z
UID:10000054-1588872600-1588874400@www.gardenclubjax.org
SUMMARY:Plants During the Pandemic
DESCRIPTION:Watch this program here. \nWhy do so many people want to garden during this pandemic? \nWhether for food\, meditation\, wildlife\, home improvement\, or simply adding beauty to our lives\, many of us feel the urge to garden right now. Let’s talk about your motivation and the best way to go about finding supplies. \nJoin Meg Gaffney-Cooke\, landscape architect of Blue Leaf Design and a #GardenClubJax member\, for Plants During the Pandemic at 5:30 p.m. Thursday\, May 7. \nShe’ll discuss the reasons people are drawn to gardening now and ways you can get the tools you need to do it. She’ll be live from her home garden\, and we’ll have plenty of time for questions. \nThis virtual program is free\, but you must register. Once you do\, we’ll send you the link\, so you can join the meeting. \nFREE \nREGISTRATION
URL:https://www.gardenclubjax.org/event/plants-during-the-pandemic/
LOCATION:Zoom Meeting\, FL\, United States
CATEGORIES:Virtual Programs
ATTACH;FMTTYPE=image/jpeg:https://www.gardenclubjax.org/wp-content/uploads/2019/10/Plants-During-the-Pandemic.jpg
END:VEVENT
END:VCALENDAR